BEGIN:VCALENDAR
VERSION:2.0
PRODID:-//PK Netz - ECPv6.15.20//NONSGML v1.0//EN
CALSCALE:GREGORIAN
METHOD:PUBLISH
X-ORIGINAL-URL:https://pk-netz.ch
X-WR-CALDESC:Veranstaltungen im PK Netz
REFRESH-INTERVAL;VALUE=DURATION:PT1H
X-Robots-Tag:noindex
X-PUBLISHED-TTL:PT1H
BEGIN:VTIMEZONE
TZID:Europe/Zurich
BEGIN:DAYLIGHT
TZOFFSETFROM:+0100
TZOFFSETTO:+0200
TZNAME:CEST
DTSTART:20250330T010000
END:DAYLIGHT
BEGIN:STANDARD
TZOFFSETFROM:+0200
TZOFFSETTO:+0100
TZNAME:CET
DTSTART:20251026T010000
END:STANDARD
BEGIN:DAYLIGHT
TZOFFSETFROM:+0100
TZOFFSETTO:+0200
TZNAME:CEST
DTSTART:20260329T010000
END:DAYLIGHT
BEGIN:STANDARD
TZOFFSETFROM:+0200
TZOFFSETTO:+0100
TZNAME:CET
DTSTART:20261025T010000
END:STANDARD
BEGIN:DAYLIGHT
TZOFFSETFROM:+0100
TZOFFSETTO:+0200
TZNAME:CEST
DTSTART:20270328T010000
END:DAYLIGHT
BEGIN:STANDARD
TZOFFSETFROM:+0200
TZOFFSETTO:+0100
TZNAME:CET
DTSTART:20271031T010000
END:STANDARD
END:VTIMEZONE
BEGIN:VEVENT
DTSTART;TZID=Europe/Zurich:20261028T101500
DTEND;TZID=Europe/Zurich:20261028T163000
DTSTAMP:20260422T235353
CREATED:20251022T135820Z
LAST-MODIFIED:20251022T135821Z
UID:21329-1793182500-1793205000@pk-netz.ch
SUMMARY:PK-Netz Tagung
DESCRIPTION:Das Programm wird vor der Sommerpause 2026 publiziert.
URL:https://pk-netz.ch/event/pk-netz-tagung-6/
LOCATION:Hotel Bern\, Zeughausgasse 9\, Bern\, 3011
END:VEVENT
END:VCALENDAR